BEGIN:VCALENDAR
VERSION:2.0
PRODID:-//hacksw/handcal//NONSGML v1.0//EN
BEGIN:VEVENT
SUMMARY:Stage
UID:84af1b17-c2e7-4190-9b65-89349cf216d7
DTSTART:20260321T083000Z
DTEND:20260321T113000Z
LOCATION:Localisation   
CATEGORIES:Sportif
STATUS:
URL;VALUE=URI:https://yogamagnanvilleesm.sportsregions.fr/evenements/2026/03/21/stage-2427418
END:VEVENT
END:VCALENDAR
