BEGIN:VCALENDAR
VERSION:2.0
PRODID:-//hacksw/handcal//NONSGML v1.0//EN
BEGIN:VEVENT
SUMMARY:Stage /cours rattrapage
UID:b7811de6-164f-41d1-ac41-d284334d5e34
DTSTART:20260613T073000Z
DTEND:20260613T103000Z
LOCATION:Localisation   
CATEGORIES:Sportif
STATUS:
URL;VALUE=URI:https://yogamagnanvilleesm.sportsregions.fr/evenements/2026/06/13/stage-cours-rattrapage-2427428
END:VEVENT
END:VCALENDAR
